{
 "currentVersion": 11.3,
 "serviceDescription": "The USGS 3D Elevation Program (3DEP) Bare Earth DEM Dynamic service is based on multi-resolution USGS DEM sources and provides dynamic functions for visualization. These functions include: Hillshade, Aspect Map, Hillshade Stretched, Multi-directional Hillshade, Slope Map, Elevation Tinted Hillshade, Contour. In addition the OGC Web Map Service (WMS) and Web Coverage Service (WCS) interfaces are enabled. Data available in this map service reflects all 3DEP DEM data published as of August 24, 2026.",
 "name": "3DEPElevation",
 "description": "The USGS 3D Elevation Program (3DEP) Bare Earth DEM Dynamic service is based on multi-resolution USGS DEM sources and provides dynamic functions for visualization. These functions include: Hillshade, Aspect Map, Hillshade Stretched, Multi-directional Hillshade, Slope Map, Elevation Tinted Hillshade, Contour. In addition the OGC Web Map Service (WMS) and Web Coverage Service (WCS) interfaces are enabled. Data available in this map service reflects all 3DEP DEM data published as of August 24, 2026.",
 "extent": {
  "xmin": -2.00375070672E7,
  "ymin": -1689391.823360186,
  "xmax": 2.0037507532527123E7,
  "ymax": 1.88090019719E7,
  "spatialReference": {
   "wkid": 102100,
   "latestWkid": 3857
  }
 },
 "initialExtent": {
  "xmin": -2.00375070672E7,
  "ymin": -1689391.823360186,
  "xmax": 2.0037507532527123E7,
  "ymax": 1.88090019719E7,
  "spatialReference": {
   "wkid": 102100,
   "latestWkid": 3857
  }
 },
 "fullExtent": {
  "xmin": -2.00375070672E7,
  "ymin": -1689391.823360186,
  "xmax": 2.0037507532527123E7,
  "ymax": 1.88090019719E7,
  "spatialReference": {
   "wkid": 102100,
   "latestWkid": 3857
  }
 },
 "sortableFields": "",
 "bandCount": 1,
 "pixelType": "F32",
 "minValues": [
  -60.3043327331543
 ],
 "maxValues": [
  3922.473388671875
 ],
 "meanValues": [
  395.42459168145575
 ],
 "stdvValues": [
  502.76657891852875
 ],
 "hasMultidimensions": false,
 "pixelSizeX": 0.9999999900119095,
 "pixelSizeY": 0.9999999900119095,
 "meanPixelSize": 0.9999999900119095,
 "datasetFormat": "AMD",
 "uncompressedSize": 3285893788103640,
 "blockWidth": 2048,
 "blockHeight": 256,
 "compressionType": "None",
 "bandNames": [
  "Band_1"
 ],
 "allowCopy": true,
 "allowAnalysis": true,
 "itemAccess": false,
 "inspectionCapabilities": "",
 "minPixelSize": 0,
 "maxPixelSize": 0,
 "copyrightText": "USGS National Map 3D Elevation Program (3DEP). August 25, 2026.",
 "serviceDataType": "esriImageServiceDataTypeElevation",
 "serviceSourceType": "esriImageServiceSourceTypeMosaicDataset",
 "objectIdField": "OBJECTID",
 "fields": [
  {
   "name": "OBJECTID",
   "type": "esriFieldTypeOID",
   "alias": "OBJECTID",
   "domain": null
  },
  {
   "name": "Shape",
   "type": "esriFieldTypeGeometry",
   "alias": "Shape",
   "domain": null
  },
  {
   "name": "Name",
   "type": "esriFieldTypeString",
   "alias": "Name",
   "domain": null,
   "length": 200
  },
  {
   "name": "MinPS",
   "type": "esriFieldTypeDouble",
   "alias": "MinPS",
   "domain": null
  },
  {
   "name": "MaxPS",
   "type": "esriFieldTypeDouble",
   "alias": "MaxPS",
   "domain": null
  },
  {
   "name": "LowPS",
   "type": "esriFieldTypeDouble",
   "alias": "LowPS",
   "domain": null
  },
  {
   "name": "HighPS",
   "type": "esriFieldTypeDouble",
   "alias": "HighPS",
   "domain": null
  },
  {
   "name": "Category",
   "type": "esriFieldTypeInteger",
   "alias": "Category",
   "domain": {
    "type": "codedValue",
    "name": "MosaicCatalogItemCategoryDomain",
    "description": "Catalog item categories.",
    "codedValues": [
     {
      "name": "Unknown",
      "code": 0
     },
     {
      "name": "Primary",
      "code": 1
     },
     {
      "name": "Overview",
      "code": 2
     },
     {
      "name": "Unprocessed Overview",
      "code": 3
     },
     {
      "name": "Partial Overview",
      "code": 4
     },
     {
      "name": "Inactive",
      "code": 5
     },
     {
      "name": "Uploaded",
      "code": 253
     },
     {
      "name": "Incomplete",
      "code": 254
     },
     {
      "name": "Custom",
      "code": 255
     }
    ],
    "mergePolicy": "esriMPTDefaultValue",
    "splitPolicy": "esriSPTDefaultValue"
   }
  },
  {
   "name": "Tag",
   "type": "esriFieldTypeString",
   "alias": "Tag",
   "domain": null,
   "length": 100
  },
  {
   "name": "GroupName",
   "type": "esriFieldTypeString",
   "alias": "GroupName",
   "domain": null,
   "length": 100
  },
  {
   "name": "ProductName",
   "type": "esriFieldTypeString",
   "alias": "ProductName",
   "domain": null,
   "length": 100
  },
  {
   "name": "CenterX",
   "type": "esriFieldTypeDouble",
   "alias": "CenterX",
   "domain": null
  },
  {
   "name": "CenterY",
   "type": "esriFieldTypeDouble",
   "alias": "CenterY",
   "domain": null
  },
  {
   "name": "ZOrder",
   "type": "esriFieldTypeInteger",
   "alias": "ZOrder",
   "domain": null
  },
  {
   "name": "Shape_Length",
   "type": "esriFieldTypeDouble",
   "alias": "Shape_Length",
   "domain": null
  },
  {
   "name": "Shape_Area",
   "type": "esriFieldTypeDouble",
   "alias": "Shape_Area",
   "domain": null
  },
  {
   "name": "Dataset_ID",
   "type": "esriFieldTypeString",
   "alias": "Dataset_ID",
   "domain": null,
   "length": 32
  },
  {
   "name": "Best",
   "type": "esriFieldTypeInteger",
   "alias": "Best",
   "domain": null
  },
  {
   "name": "DEM_Type",
   "type": "esriFieldTypeSmallInteger",
   "alias": "DEM_Type",
   "domain": null
  },
  {
   "name": "Source",
   "type": "esriFieldTypeString",
   "alias": "Source",
   "domain": null,
   "length": 32
  },
  {
   "name": "VerticalDatum",
   "type": "esriFieldTypeString",
   "alias": "VerticalDatum",
   "domain": null,
   "length": 100
  },
  {
   "name": "AcquisitionDate",
   "type": "esriFieldTypeDate",
   "alias": "AcquisitionDate",
   "domain": null,
   "length": 8
  },
  {
   "name": "URL",
   "type": "esriFieldTypeString",
   "alias": "URL",
   "domain": null,
   "length": 1000
  },
  {
   "name": "Metadata",
   "type": "esriFieldTypeString",
   "alias": "Metadata",
   "domain": null,
   "length": 256
  },
  {
   "name": "pubdate",
   "type": "esriFieldTypeInteger",
   "alias": "pubdate",
   "domain": null
  },
  {
   "name": "title",
   "type": "esriFieldTypeString",
   "alias": "title",
   "domain": null,
   "length": 256
  },
  {
   "name": "Resolution_X",
   "type": "esriFieldTypeString",
   "alias": "Resolution_X",
   "domain": null,
   "length": 50
  },
  {
   "name": "Resolution_Y",
   "type": "esriFieldTypeDouble",
   "alias": "Resolution_Y",
   "domain": null
  },
  {
   "name": "Cdate",
   "type": "esriFieldTypeString",
   "alias": "Cdate",
   "domain": null,
   "length": 50
  },
  {
   "name": "StartDate",
   "type": "esriFieldTypeInteger",
   "alias": "StartDate",
   "domain": null
  },
  {
   "name": "EndDate",
   "type": "esriFieldTypeString",
   "alias": "EndDate",
   "domain": null,
   "length": 50
  }
 ],
 "capabilities": "Image,Metadata,Catalog",
 "defaultMosaicMethod": "ByAttribute",
 "allowedMosaicMethods": "ByAttribute,LockRaster,Seamline,None",
 "sortField": "Best",
 "sortValue": "0",
 "sortAscending": true,
 "mosaicOperator": "First",
 "maxDownloadSizeLimit": 2048,
 "defaultCompressionQuality": 75,
 "defaultResamplingMethod": "Bilinear",
 "maxImageHeight": 8000,
 "maxImageWidth": 8000,
 "maxRecordCount": 2000,
 "maxDownloadImageCount": 50,
 "maxMosaicImageCount": 500,
 "allowRasterFunction": true,
 "rasterFunctionInfos": [
  {
   "name": "Hillshade Gray",
   "description": "Provides a hillshaded surface generated dynamically using the hillshade server-side function on the elevation layer with a solar azimuth of 315 degrees and solar altitude of 45 degrees.",
   "help": ""
  },
  {
   "name": "Aspect Degrees",
   "description": "This server-side function will apply an on-the-fly process to the input elevation data to generate an aspect layer.",
   "help": "Raster Function Templates may be activated in ArcMap by loading the service into the map, right clicking on the service in the Table of Contents to select Properties, and selecting the desired function from the Server Functions tab. For help with invoking raster functions via REST calls, see http://resources.arcgis.com/en/help/rest/apiref/. "
  },
  {
   "name": "Aspect Map",
   "description": "This server-side function will apply an on-the-fly process to the input elevation data to generate a color visualization of aspect. ",
   "help": "Raster Function Templates may be activated in ArcMap by loading the service into the map, right clicking on the service in the Table of Contents to select Properties, and selecting the desired function from the Server Functions tab. For help with invoking raster functions via REST calls, see http://resources.arcgis.com/en/help/rest/apiref/. "
  },
  {
   "name": "Contour 25",
   "description": "Provides 25 contours for the area of interest dynamically generated using the contour server-side function.",
   "help": ""
  },
  {
   "name": "Hillshade Elevation Tinted",
   "description": "This server-side function will apply an on-the-fly process to the input elevation data to generate a tinted hillshade. ",
   "help": "Raster Function Templates may be activated in ArcMap by loading the service into the map, right clicking on the service in the Table of Contents to select Properties, and selecting the desired function from the Server Functions tab. For help with invoking raster functions via REST calls, see http://resources.arcgis.com/en/help/rest/apiref/. "
  },
  {
   "name": "Hillshade Gray-Stretch",
   "description": "Provides a hillshaded surface generated dynamically using the hillshade server-side function on the elevation layer with a solar azimuth of 315 degrees and solar altitude of 45 degrees, then a stretch function with 4 standard deviations and gamma of 1.5 x 3 is added on the end to add darker shadowing.",
   "help": ""
  },
  {
   "name": "Hillshade Multidirectional",
   "description": "A raster function template.",
   "help": ""
  },
  {
   "name": "Preset 2ft Contour Interval",
   "description": "Provides 2 foot contours dynamically for the display extent using a server-side raster function.",
   "help": ""
  },
  {
   "name": "Preset 5ft Contour Interval",
   "description": "Provides 5 foot contours for the display extent using a server-side raster function.",
   "help": ""
  },
  {
   "name": "Preset 10ft Contour Interval",
   "description": " Provides 10-foot contours dynamically for the display extent using a server-side raster function.",
   "help": ""
  },
  {
   "name": "Slope Map",
   "description": "This server-side function will apply an on-the-fly process to the input elevation data to generate a color visualization of slope, where flat surfaces are gray, shallow slopes are yellow, and steep slopes are red-brown. ",
   "help": "Raster Function Templates may be activated in ArcMap by loading the service into the map, right clicking on the service in the Table of Contents to select Properties, and selecting the desired function from the Server Functions tab. For help with invoking raster functions via REST calls, see http://resources.arcgis.com/en/help/rest/apiref/. "
  },
  {
   "name": "Slope Degrees",
   "description": "This server-side function will apply an on-the-fly process to the input elevation data to generate a color visualization of slope, where flat surface is gray, shallow slopes are yellow, and steep slopes are red-brown. ",
   "help": "Raster Function Templates may be activated in ArcMap by loading the service into the map, right clicking on the service in the Table of Contents to select Properties, and selecting the desired function from the Server Functions tab. For help with invoking raster functions via REST calls, see http://resources.arcgis.com/en/help/rest/apiref/. "
  },
  {
   "name": "Contour Smoothed 25",
   "description": "Provides 25 smoothened contours for the area of interest dynamically generated using the contour server-side function.",
   "help": ""
  },
  {
   "name": "None",
   "description": "Make a Raster or Raster Dataset into a Function Raster Dataset.",
   "help": ""
  }
 ],
 "rasterTypeInfos": [
  {
   "name": "Raster Dataset",
   "description": "Supports all ArcGIS Raster Datasets",
   "help": ""
  }
 ],
 "mensurationCapabilities": "None",
 "hasHistograms": true,
 "hasColormap": false,
 "hasRasterAttributeTable": false,
 "minScale": 0,
 "maxScale": 0,
 "exportTilesAllowed": false,
 "supportsStatistics": true,
 "supportsAdvancedQueries": true,
 "editFieldsInfo": null,
 "ownershipBasedAccessControlForRasters": null,
 "allowComputeTiePoints": false,
 "useStandardizedQueries": true,
 "advancedQueryCapabilities": {
  "useStandardizedQueries": true,
  "supportsStatistics": true,
  "supportsOrderBy": true,
  "supportsDistinct": true,
  "supportsPagination": true
 },
 "spatialReference": {
  "wkid": 102100,
  "latestWkid": 3857
 }
}
